BEGIN:VCALENDAR
VERSION:2.0
PRODID:-//Musikverein Hagelloch e.V. - ECPv6.15.20//NONSGML v1.0//EN
CALSCALE:GREGORIAN
METHOD:PUBLISH
X-ORIGINAL-URL:https://mv-hagelloch.de
X-WR-CALDESC:Veranstaltungen für Musikverein Hagelloch e.V.
REFRESH-INTERVAL;VALUE=DURATION:PT1H
X-Robots-Tag:noindex
X-PUBLISHED-TTL:PT1H
BEGIN:VTIMEZONE
TZID:Europe/Helsinki
BEGIN:DAYLIGHT
TZOFFSETFROM:+0200
TZOFFSETTO:+0300
TZNAME:EEST
DTSTART:20250330T010000
END:DAYLIGHT
BEGIN:STANDARD
TZOFFSETFROM:+0300
TZOFFSETTO:+0200
TZNAME:EET
DTSTART:20251026T010000
END:STANDARD
BEGIN:DAYLIGHT
TZOFFSETFROM:+0200
TZOFFSETTO:+0300
TZNAME:EEST
DTSTART:20260329T010000
END:DAYLIGHT
BEGIN:STANDARD
TZOFFSETFROM:+0300
TZOFFSETTO:+0200
TZNAME:EET
DTSTART:20261025T010000
END:STANDARD
BEGIN:DAYLIGHT
TZOFFSETFROM:+0200
TZOFFSETTO:+0300
TZNAME:EEST
DTSTART:20270328T010000
END:DAYLIGHT
BEGIN:STANDARD
TZOFFSETFROM:+0300
TZOFFSETTO:+0200
TZNAME:EET
DTSTART:20271031T010000
END:STANDARD
END:VTIMEZONE
BEGIN:VEVENT
DTSTART;TZID=Europe/Helsinki:20260627T183000
DTEND;TZID=Europe/Helsinki:20260627T203000
DTSTAMP:20260425T142225
CREATED:20260314T073844Z
LAST-MODIFIED:20260314T073844Z
UID:5615-1782585000-1782592200@mv-hagelloch.de
SUMMARY:Sommerhock Dorfmusikanten Jettenburg
DESCRIPTION:
URL:https://mv-hagelloch.de/event/sommerhock-dorfmusikanten-jettenburg/
LOCATION:Jettenburg
END:VEVENT
END:VCALENDAR