BEGIN:VCALENDAR
VERSION:2.0
PRODID:-//Musikverein Hagelloch e.V. - ECPv6.15.20//NONSGML v1.0//EN
CALSCALE:GREGORIAN
METHOD:PUBLISH
X-ORIGINAL-URL:https://mv-hagelloch.de
X-WR-CALDESC:Veranstaltungen für Musikverein Hagelloch e.V.
REFRESH-INTERVAL;VALUE=DURATION:PT1H
X-Robots-Tag:noindex
X-PUBLISHED-TTL:PT1H
BEGIN:VTIMEZONE
TZID:Europe/Helsinki
BEGIN:DAYLIGHT
TZOFFSETFROM:+0200
TZOFFSETTO:+0300
TZNAME:EEST
DTSTART:20230326T010000
END:DAYLIGHT
BEGIN:STANDARD
TZOFFSETFROM:+0300
TZOFFSETTO:+0200
TZNAME:EET
DTSTART:20231029T010000
END:STANDARD
BEGIN:DAYLIGHT
TZOFFSETFROM:+0200
TZOFFSETTO:+0300
TZNAME:EEST
DTSTART:20240331T010000
END:DAYLIGHT
BEGIN:STANDARD
TZOFFSETFROM:+0300
TZOFFSETTO:+0200
TZNAME:EET
DTSTART:20241027T010000
END:STANDARD
BEGIN:DAYLIGHT
TZOFFSETFROM:+0200
TZOFFSETTO:+0300
TZNAME:EEST
DTSTART:20250330T010000
END:DAYLIGHT
BEGIN:STANDARD
TZOFFSETFROM:+0300
TZOFFSETTO:+0200
TZNAME:EET
DTSTART:20251026T010000
END:STANDARD
BEGIN:DAYLIGHT
TZOFFSETFROM:+0200
TZOFFSETTO:+0300
TZNAME:EEST
DTSTART:20260329T010000
END:DAYLIGHT
BEGIN:STANDARD
TZOFFSETFROM:+0300
TZOFFSETTO:+0200
TZNAME:EET
DTSTART:20261025T010000
END:STANDARD
BEGIN:DAYLIGHT
TZOFFSETFROM:+0200
TZOFFSETTO:+0300
TZNAME:EEST
DTSTART:20270328T010000
END:DAYLIGHT
BEGIN:STANDARD
TZOFFSETFROM:+0300
TZOFFSETTO:+0200
TZNAME:EET
DTSTART:20271031T010000
END:STANDARD
END:VTIMEZONE
BEGIN:VEVENT
DTSTART;TZID=Europe/Helsinki:20260329T170000
DTEND;TZID=Europe/Helsinki:20260329T190000
DTSTAMP:20260420T165449
CREATED:20260216T151157Z
LAST-MODIFIED:20260216T151157Z
UID:5597-1774803600-1774810800@mv-hagelloch.de
SUMMARY:Frühjahrskonzert
DESCRIPTION:
URL:https://mv-hagelloch.de/event/fruehjahrskonzert/
LOCATION:Turn- und Festhalle Hagelloch
END:VEVENT
BEGIN:VEVENT
DTSTART;TZID=Europe/Helsinki:20251109T170000
DTEND;TZID=Europe/Helsinki:20251109T190000
DTSTAMP:20260420T165449
CREATED:20240916T091858Z
LAST-MODIFIED:20240916T091858Z
UID:5078-1762707600-1762714800@mv-hagelloch.de
SUMMARY:100 Jahre MV - Kirchenkonzert
DESCRIPTION:
URL:https://mv-hagelloch.de/event/100-jahre-mv-kirchenkonzert/
LOCATION:Kirche Hagelloch
END:VEVENT
BEGIN:VEVENT
DTSTART;TZID=Europe/Helsinki:20251011T190000
DTEND;TZID=Europe/Helsinki:20251011T220000
DTSTAMP:20260420T165449
CREATED:20241017T075225Z
LAST-MODIFIED:20241017T075225Z
UID:5105-1760209200-1760220000@mv-hagelloch.de
SUMMARY:Auftritt bei der Stadtkapelle Binsdorf
DESCRIPTION:
URL:https://mv-hagelloch.de/event/auftritt-bei-der-stadtkapelle-binsdorf/
LOCATION:Binsdorf (Geislingen)
END:VEVENT
BEGIN:VEVENT
DTSTART;TZID=Europe/Helsinki:20250928T140000
DTEND;TZID=Europe/Helsinki:20250928T163000
DTSTAMP:20260420T165449
CREATED:20250504T090707Z
LAST-MODIFIED:20250504T090707Z
UID:5352-1759068000-1759077000@mv-hagelloch.de
SUMMARY:Kirbe Nehren (Auftritt)
DESCRIPTION:
URL:https://mv-hagelloch.de/event/kirbe-nehren-auftritt/
LOCATION:Musikantenscheune Nehren
END:VEVENT
BEGIN:VEVENT
DTSTART;TZID=Europe/Helsinki:20250914T153000
DTEND;TZID=Europe/Helsinki:20250914T183000
DTSTAMP:20260420T165449
CREATED:20241017T075046Z
LAST-MODIFIED:20250423T063124Z
UID:5103-1757863800-1757874600@mv-hagelloch.de
SUMMARY:Dorffest Hagelloch
DESCRIPTION:
URL:https://mv-hagelloch.de/event/dorffest-hagelloch/
LOCATION:Hagelloch Rathaus
END:VEVENT
BEGIN:VEVENT
DTSTART;TZID=Europe/Helsinki:20250712T183000
DTEND;TZID=Europe/Helsinki:20250712T203000
DTSTAMP:20260420T165449
CREATED:20250504T090533Z
LAST-MODIFIED:20250504T090533Z
UID:5350-1752345000-1752352200@mv-hagelloch.de
SUMMARY:Stadtfest Tübingen (Auftritt)
DESCRIPTION:
URL:https://mv-hagelloch.de/event/stadtfest-tuebingen-auftritt/
LOCATION:Marktplatz Tübingen
END:VEVENT
BEGIN:VEVENT
DTSTART;VALUE=DATE:20250711
DTEND;VALUE=DATE:20250713
DTSTAMP:20260420T165449
CREATED:20241017T075006Z
LAST-MODIFIED:20241017T075006Z
UID:5101-1752192000-1752364799@mv-hagelloch.de
SUMMARY:Stadtfest Tübingen (Bewirtung)
DESCRIPTION:
URL:https://mv-hagelloch.de/event/stadtfest-tuebingen-bewirtung/
LOCATION:Marktplatz Tübingen
END:VEVENT
BEGIN:VEVENT
DTSTART;TZID=Europe/Helsinki:20250706T113000
DTEND;TZID=Europe/Helsinki:20250706T140000
DTSTAMP:20260420T165449
CREATED:20250504T090145Z
LAST-MODIFIED:20250504T090345Z
UID:5346-1751801400-1751810400@mv-hagelloch.de
SUMMARY:Zwiebelberdafest Wolfenhausen (Frühschoppen)
DESCRIPTION:
URL:https://mv-hagelloch.de/event/fruehschoppen-wolfenhausen/
END:VEVENT
BEGIN:VEVENT
DTSTART;VALUE=DATE:20250621
DTEND;VALUE=DATE:20250624
DTSTAMP:20260420T165449
CREATED:20240916T091812Z
LAST-MODIFIED:20240916T091812Z
UID:5076-1750464000-1750723199@mv-hagelloch.de
SUMMARY:100 Jahre MV - Jubiläumsfest
DESCRIPTION:
URL:https://mv-hagelloch.de/event/100-jahre-mv-jubilaeumsfest/
LOCATION:Festplatz Hagelloch
END:VEVENT
BEGIN:VEVENT
DTSTART;TZID=Europe/Helsinki:20250510T180000
DTEND;TZID=Europe/Helsinki:20250510T190000
DTSTAMP:20260420T165449
CREATED:20241017T074845Z
LAST-MODIFIED:20250505T163732Z
UID:5099-1746900000-1746903600@mv-hagelloch.de
SUMMARY:Konzert auf dem Marktplatz
DESCRIPTION:
URL:https://mv-hagelloch.de/event/konzert-auf-dem-marktplatz/
LOCATION:Marktplatz Tübingen
END:VEVENT
BEGIN:VEVENT
DTSTART;TZID=Europe/Helsinki:20250430T183000
DTEND;TZID=Europe/Helsinki:20250430T203000
DTSTAMP:20260420T165449
CREATED:20241017T074810Z
LAST-MODIFIED:20241017T074810Z
UID:5097-1746037800-1746045000@mv-hagelloch.de
SUMMARY:Maibaumaufstellung
DESCRIPTION:
URL:https://mv-hagelloch.de/event/maibaumaufstellung/
LOCATION:Hagelloch Rathaus
END:VEVENT
BEGIN:VEVENT
DTSTART;TZID=Europe/Helsinki:20250413T170000
DTEND;TZID=Europe/Helsinki:20250413T200000
DTSTAMP:20260420T165449
CREATED:20240916T091720Z
LAST-MODIFIED:20240916T091720Z
UID:5074-1744563600-1744574400@mv-hagelloch.de
SUMMARY:100 Jahre MV - Jubiläumskonzert
DESCRIPTION:
URL:https://mv-hagelloch.de/event/100-jahre-mv-jubilaeumskonzert/
LOCATION:Turn- und Festhalle Hagelloch
END:VEVENT
BEGIN:VEVENT
DTSTART;TZID=Europe/Helsinki:20250412T180000
DTEND;TZID=Europe/Helsinki:20250412T200000
DTSTAMP:20260420T165449
CREATED:20240916T091620Z
LAST-MODIFIED:20240916T091620Z
UID:5070-1744480800-1744488000@mv-hagelloch.de
SUMMARY:100 Jahre MV – Festakt
DESCRIPTION:
URL:https://mv-hagelloch.de/event/100-jahre-mv-festakt/
LOCATION:Turn- und Festhalle Hagelloch
END:VEVENT
BEGIN:VEVENT
DTSTART;VALUE=DATE:20250321
DTEND;VALUE=DATE:20250324
DTSTAMP:20260420T165449
CREATED:20241017T074717Z
LAST-MODIFIED:20241017T074717Z
UID:5095-1742515200-1742774399@mv-hagelloch.de
SUMMARY:Probewochenende
DESCRIPTION:
URL:https://mv-hagelloch.de/event/probewochenende/
END:VEVENT
BEGIN:VEVENT
DTSTART;TZID=Europe/Helsinki:20250228T193000
DTEND;TZID=Europe/Helsinki:20250228T220000
DTSTAMP:20260420T165449
CREATED:20241017T074645Z
LAST-MODIFIED:20241017T074645Z
UID:5092-1740771000-1740780000@mv-hagelloch.de
SUMMARY:Jahreshauptversammlung
DESCRIPTION:
URL:https://mv-hagelloch.de/event/jahreshauptversammlung/
LOCATION:Proberaum MV Hagelloch
END:VEVENT
BEGIN:VEVENT
DTSTART;TZID=Europe/Helsinki:20250202T160000
DTEND;TZID=Europe/Helsinki:20250202T183000
DTSTAMP:20260420T165449
CREATED:20241017T074523Z
LAST-MODIFIED:20250201T075933Z
UID:5090-1738512000-1738521000@mv-hagelloch.de
SUMMARY:Jugendwinterkonzert
DESCRIPTION:
URL:https://mv-hagelloch.de/event/jugendwinterkonzert/
LOCATION:Turn- und Festhalle Hagelloch
END:VEVENT
BEGIN:VEVENT
DTSTART;VALUE=DATE:20241213
DTEND;VALUE=DATE:20241216
DTSTAMP:20260420T165449
CREATED:20240515T121414Z
LAST-MODIFIED:20240515T121414Z
UID:4855-1734048000-1734307199@mv-hagelloch.de
SUMMARY:Bewirtung Weihnachtsmarkt
DESCRIPTION:
URL:https://mv-hagelloch.de/event/bewirtung-weihnachtsmarkt/
LOCATION:Holzmarkt Tübingen
END:VEVENT
BEGIN:VEVENT
DTSTART;TZID=Europe/Helsinki:20241117T103000
DTEND;TZID=Europe/Helsinki:20241117T110000
DTSTAMP:20260420T165449
CREATED:20240515T121258Z
LAST-MODIFIED:20240515T121312Z
UID:4853-1731839400-1731841200@mv-hagelloch.de
SUMMARY:Volkstrauertag
DESCRIPTION:
URL:https://mv-hagelloch.de/event/volkstrauertag/
LOCATION:Hagelloch Rathaus
END:VEVENT
BEGIN:VEVENT
DTSTART;TZID=Europe/Helsinki:20241013T160000
DTEND;TZID=Europe/Helsinki:20241013T183000
DTSTAMP:20260420T165449
CREATED:20240515T121228Z
LAST-MODIFIED:20240515T121228Z
UID:4850-1728835200-1728844200@mv-hagelloch.de
SUMMARY:Auftritt bei der Kirbe
DESCRIPTION:
URL:https://mv-hagelloch.de/event/auftritt-bei-der-kirbe/
LOCATION:Wendelsheim
END:VEVENT
BEGIN:VEVENT
DTSTART;TZID=Europe/Helsinki:20240916T200000
DTEND;TZID=Europe/Helsinki:20240916T223000
DTSTAMP:20260420T165449
CREATED:20240702T163606Z
LAST-MODIFIED:20240702T163606Z
UID:4875-1726516800-1726525800@mv-hagelloch.de
SUMMARY:Sichelhenke Bühl
DESCRIPTION:
URL:https://mv-hagelloch.de/event/sichelhenke-buehl/
LOCATION:Sichelhenke Bühl
END:VEVENT
BEGIN:VEVENT
DTSTART;VALUE=DATE:20240907
DTEND;VALUE=DATE:20240909
DTSTAMP:20260420T165449
CREATED:20240515T121143Z
LAST-MODIFIED:20240515T121143Z
UID:4848-1725667200-1725839999@mv-hagelloch.de
SUMMARY:Dorffest
DESCRIPTION:
URL:https://mv-hagelloch.de/event/dorffest/
LOCATION:Hagelloch Rathaus
END:VEVENT
BEGIN:VEVENT
DTSTART;TZID=Europe/Helsinki:20240728T173000
DTEND;TZID=Europe/Helsinki:20240728T193000
DTSTAMP:20260420T165449
CREATED:20240515T121055Z
LAST-MODIFIED:20240515T121055Z
UID:4845-1722187800-1722195000@mv-hagelloch.de
SUMMARY:Auftritt beim Straßenfest
DESCRIPTION:
URL:https://mv-hagelloch.de/event/auftritt-beim-strassenfest-2/
LOCATION:Tübingen – Weilheim
END:VEVENT
BEGIN:VEVENT
DTSTART;TZID=Europe/Helsinki:20240721T100000
DTEND;TZID=Europe/Helsinki:20240721T160000
DTSTAMP:20260420T165449
CREATED:20240515T121009Z
LAST-MODIFIED:20240515T121009Z
UID:4842-1721556000-1721577600@mv-hagelloch.de
SUMMARY:Umzug und Auftritt
DESCRIPTION:
URL:https://mv-hagelloch.de/event/umzug-und-auftritt/
LOCATION:Schlierbach
END:VEVENT
BEGIN:VEVENT
DTSTART;TZID=Europe/Helsinki:20240629T203000
DTEND;TZID=Europe/Helsinki:20240629T233000
DTSTAMP:20260420T165449
CREATED:20240515T120922Z
LAST-MODIFIED:20240515T120922Z
UID:4839-1719693000-1719703800@mv-hagelloch.de
SUMMARY:Auftritt beim Neckarfest
DESCRIPTION:
URL:https://mv-hagelloch.de/event/auftritt-beim-neckarfest/
LOCATION:Rottenburg
END:VEVENT
BEGIN:VEVENT
DTSTART;VALUE=DATE:20240615
DTEND;VALUE=DATE:20240617
DTSTAMP:20260420T165449
CREATED:20240417T121603Z
LAST-MODIFIED:20240417T122518Z
UID:4377-1718409600-1718582399@mv-hagelloch.de
SUMMARY:Sommerfest
DESCRIPTION:
URL:https://mv-hagelloch.de/event/sommerfest/
LOCATION:Festplatz Hagelloch
END:VEVENT
BEGIN:VEVENT
DTSTART;TZID=Europe/Helsinki:20240608T153000
DTEND;TZID=Europe/Helsinki:20240608T170000
DTSTAMP:20260420T165449
CREATED:20240523T162952Z
LAST-MODIFIED:20240523T162952Z
UID:4865-1717860600-1717866000@mv-hagelloch.de
SUMMARY:Auftritt Stadtwerke Tübingen
DESCRIPTION:
URL:https://mv-hagelloch.de/event/auftritt-stadtwerke-tuebingen/
LOCATION:Stadtwerke Tübingen
END:VEVENT
BEGIN:VEVENT
DTSTART;TZID=Europe/Helsinki:20240608T130000
DTEND;TZID=Europe/Helsinki:20240608T150000
DTSTAMP:20260420T165449
CREATED:20240515T120842Z
LAST-MODIFIED:20240515T120842Z
UID:4836-1717851600-1717858800@mv-hagelloch.de
SUMMARY:Jubiläumsumzug MV Pfrondorf
DESCRIPTION:
URL:https://mv-hagelloch.de/event/jubilaeumsumzug-mv-pfrondorf/
LOCATION:Pfrondorf
END:VEVENT
BEGIN:VEVENT
DTSTART;TZID=Europe/Helsinki:20240603T183000
DTEND;TZID=Europe/Helsinki:20240603T203000
DTSTAMP:20260420T165449
CREATED:20240515T120734Z
LAST-MODIFIED:20240515T120734Z
UID:4833-1717439400-1717446600@mv-hagelloch.de
SUMMARY:Auftritt beim Mühlenfest
DESCRIPTION:
URL:https://mv-hagelloch.de/event/auftritt-beim-muehlenfest/
LOCATION:Unterjesingen
END:VEVENT
BEGIN:VEVENT
DTSTART;TZID=Europe/Helsinki:20240520T120000
DTEND;TZID=Europe/Helsinki:20240520T143000
DTSTAMP:20260420T165449
CREATED:20240417T123146Z
LAST-MODIFIED:20240518T082450Z
UID:4389-1716206400-1716215400@mv-hagelloch.de
SUMMARY:Auftritt beim Straßenfest
DESCRIPTION:Hauptorchester
URL:https://mv-hagelloch.de/event/auftritt-beim-strassenfest/
LOCATION:Wurmlingen
END:VEVENT
BEGIN:VEVENT
DTSTART;TZID=Europe/Helsinki:20240518T180000
DTEND;TZID=Europe/Helsinki:20240518T190000
DTSTAMP:20260420T165449
CREATED:20240412T083524Z
LAST-MODIFIED:20240417T123004Z
UID:4357-1716055200-1716058800@mv-hagelloch.de
SUMMARY:Konzert auf dem Marktplatz
DESCRIPTION:Hauptorchester
URL:https://mv-hagelloch.de/event/test/
LOCATION:Marktplatz Tübingen
END:VEVENT
END:VCALENDAR